BEGIN:VCALENDAR
VERSION:2.0
PRODID:-//eventon.com NONSGML v1.0//EN
CALSCALE:GREGORIAN
METHOD:PUBLISH
BEGIN:VEVENT
UID:69e867c98ea09
DTSTAMP:20260422T061641Z
DTSTART:20260424T233000Z
DTEND:20260425T010000Z
LOCATION:
SUMMARY:Anderson/Wright Wedding
DESCRIPTION:\nhttps://westhuntsville.org/events/anderson-wright-wedding/
URL:https://westhuntsville.org/events/anderson-wright-wedding/
END:VEVENT
END:VCALENDAR